BEGIN:VCALENDAR
VERSION:2.0
PRODID:gruene-dadi.de
METHOD:PUBLISH
BEGIN:VTIMEZONE
TZID:Europe/Berlin
X-LIC-LOCATION:Europe/Berlin
BEGIN:DAYLIGHT
TZOFFSETFROM:+0100
TZOFFSETTO:+0200
TZNAME:CEST
DTSTART:19700329T020000
RRULE:FREQ=YEARLY;INTERVAL=1;BYDAY=-1SU;BYMONTH=3
END:DAYLIGHT
BEGIN:STANDARD
TZOFFSETFROM:+0200
TZOFFSETTO:+0100
TZNAME:CET
DTSTART:19701025T030000
RRULE:FREQ=YEARLY;INTERVAL=1;BYDAY=-1SU;BYMONTH=10
END:STANDARD
END:VTIMEZONE
BEGIN:VEVENT
UID:1b62cde48160c57cbc7ad90ca60cf054@gruene-dadi.de
URL;VALUE=URI:https://gruene-dadi.de/termine/ausschuss-fuer-gleichstellun
 g-generationen-und-soziales-12/
LOCATION:
SUMMARY:Ausschuss für Gleichstellung, Generationen und Soziales
DESCRIPTION;ALTREP="data:text/html,":
CLASS:PUBLIC
DTSTART;TZID=Europe/Berlin:20260608T150000
DTEND;TZID=Europe/Berlin:20260608T160000
DTSTAMP:20260419T151113
END:VEVENT
END:VCALENDAR