BEGIN:VCALENDAR
VERSION:2.0
PRODID:gruene-dadi.de
METHOD:PUBLISH
BEGIN:VTIMEZONE
TZID:Europe/Berlin
X-LIC-LOCATION:Europe/Berlin
BEGIN:DAYLIGHT
TZOFFSETFROM:+0100
TZOFFSETTO:+0200
TZNAME:CEST
DTSTART:19700329T020000
RRULE:FREQ=YEARLY;INTERVAL=1;BYDAY=-1SU;BYMONTH=3
END:DAYLIGHT
BEGIN:STANDARD
TZOFFSETFROM:+0200
TZOFFSETTO:+0100
TZNAME:CET
DTSTART:19701025T030000
RRULE:FREQ=YEARLY;INTERVAL=1;BYDAY=-1SU;BYMONTH=10
END:STANDARD
END:VTIMEZONE
BEGIN:VEVENT
UID:737e37e747a70eb77664cd3c1b63d0b3@gruene-dadi.de
URL;VALUE=URI:https://gruene-dadi.de/termine/arbeitskreis-sksa-11/
LOCATION:online
SUMMARY:Arbeitskreise SKSA und KUGI
DESCRIPTION;ALTREP="data:text/html,%0A%3Cp%3EDie%20Arbeitskreise%20tagen%
 20gemeinsam.%20%20%3C%2Fp%3E%0A%0A%0A%0A%3Cp%3E%3C%2Fp%3E%0A%0A%0A%0A%3Cp
 %3E%3C%2Fp%3E%0A":Die Arbeitskreise tagen gemeinsam.
CLASS:PUBLIC
DTSTART;TZID=Europe/Berlin:20250310T180000
DTEND;TZID=Europe/Berlin:20250310T190000
DTSTAMP:20260423T091706
END:VEVENT
END:VCALENDAR