BEGIN:VCALENDAR
VERSION:2.0
PRODID:gruene-dadi.de
METHOD:PUBLISH
BEGIN:VTIMEZONE
TZID:Europe/Berlin
X-LIC-LOCATION:Europe/Berlin
BEGIN:DAYLIGHT
TZOFFSETFROM:+0100
TZOFFSETTO:+0200
TZNAME:CEST
DTSTART:19700329T020000
RRULE:FREQ=YEARLY;INTERVAL=1;BYDAY=-1SU;BYMONTH=3
END:DAYLIGHT
BEGIN:STANDARD
TZOFFSETFROM:+0200
TZOFFSETTO:+0100
TZNAME:CET
DTSTART:19701025T030000
RRULE:FREQ=YEARLY;INTERVAL=1;BYDAY=-1SU;BYMONTH=10
END:STANDARD
END:VTIMEZONE
BEGIN:VEVENT
UID:74b87a81ad200198b7a3179ad64847cd@gruene-dadi.de
URL;VALUE=URI:https://gruene-dadi.de/termine/arbeitskreis-hfa-4/
LOCATION:
SUMMARY:Arbeitskreis HFA
DESCRIPTION;ALTREP="data:text/html,%0A%3Cp%3EDer%20Arbeitskreis%20zum%20H
 aupt-%20und%20Finanzausschuss%20%28HFA%29%20findet%20online%20statt.%3Cbr
 %3EWer%20Interesse%20an%20einer%20Teilnahme%20hat%2C%20meldet%20sich%20bi
 tte%20per%20Mail%20an%20fraktion%40gruene-dadi.de.%20Der%20Zugangslink%20
 f%C3%BCr%20die%20Online-Sitzung%20wird%20danach%20zugesendet.%3C%2Fp%3E%0
 A%0A%0A%0A%3Cp%3E%3C%2Fp%3E%0A":Der Arbeitskreis zum Haupt- und Finanzaus
 schuss (HFA) findet online statt.Wer Interesse an einer Teilnahme hat\, m
 eldet sich bitte per Mail an fraktion@gruene-dadi.de. Der Zugangslink fü
 r die Online-Sitzung wird danach zugesendet.
CLASS:PUBLIC
DTSTART;TZID=Europe/Berlin:20240128T180000
DTEND;TZID=Europe/Berlin:20240128T193000
DTSTAMP:20260425T185024
END:VEVENT
END:VCALENDAR